BEGIN:VCALENDAR
METHOD:PUBLISH
VERSION:2.0
PRODID:-//WoltLab GmbH//WoltLab Suite Calendar 5.4//EN
CALSCALE:GREGORIAN
X-WR-CALNAME;VALUE=TEXT:Capture The Fass 4.0
BEGIN:VEVENT
TRANSP:OPAQUE
UID:event-53@germandayz.gg
URL:https://germandayz.gg/calendar/event/3623-capture-the-fass-4-0/
DTSTART:20181223T190000Z
DTSTAMP:20181223T190000Z
CREATED:20181223T190000Z
SUMMARY:Capture The Fass 4.0
DESCRIPTION:Zur Event-Beschreibung Capture the Fass 4.0 [URL:https://german
 dayz.de/forum/thread/19152-capture-the-fass-4-0-sonntag-den-23-12-2018-20-0
 0-uhr/]
DTEND:20181223T210000Z
END:VEVENT
END:VCALENDAR
